BEGIN:VCALENDAR
VERSION:2.0
PRODID:-//https://deb-bs.de///NONSGML kigkonsult.se iCalcreator 2.10.15//
METHOD:PUBLISH
BEGIN:VEVENT
UID:20260422T182843UTC-9208LhKslE@https://deb-bs.de/
DTSTAMP:20260422T182843Z
DESCRIPTION:Teilnehmer*innenkreis\nEltern/Elternvertreter*in der dem DEB an
 geschlossenen Elterninitiativen und selbstverwalteten Kitas\n\nInhalt und 
 Ziel\nDas Initreffen ist das Gremium der Eltern aus den im DEB zusammenges
 chlossenen Elterninitiativen und selbstverwalteten Kindertages­stätten. Hi
 er kommen die als „Inivertreter*in“ entsandten Eltern und interessierte El
 tern zusammen. Damit repräsentiert das Initreffen die Elternschaft der dem
  DEB angeschlossenen Elterninitiativen und selbstverwalteten Kitas und sic
 hert deren Beteiligung im gruppenübergreifenden Miteinander und als Intere
 ssenszusammenschluss.\nDas Initreffen ist das Bindeglied zwischen den Elte
 rn und dem Dachverband. Es lebt vom Dialog und Austausch\, von den Ideen u
 nd Diskussionen mit Eltern aus den unterschiedlichen Kindergruppen und bie
 tet damit einen „Blick über den Tellerrand der eigenen Kindergruppe hinaus
 “. Die inhaltlichen Schwerpunkte und Themen werden von allen Beteiligten g
 emeinsam abgesprochen und festgelegt.\n\nLeitung & AnsprechpartnerinKathar
 ina Schweiger\, Erziehungswissenschaften M.A. \n\nAnmeldungIhr bekommt rec
 htzeitig vor jeder Veranstaltung eine Einladung per Mail und könnt Euch da
 nn anmelden. https://deb-bs.de/index.php/jahresprogramm/veranstaltungsuebe
 rsicht/ereignis/4-initreffen---forum-der-eltern-aus-elterninitiativen-und-
 selbstverwalteten-kitas
DTSTART:20260506T193000Z
DTEND:20260506T213000Z
LOCATION:DEB\, Seminarraum ()
SUMMARY:Initreffen – Forum der ELTERN aus Elterninitiativen und selbstverwa
 lteten Kitas
URL:https://deb-bs.de/index.php/jahresprogramm/veranstaltungsuebersicht/ere
 ignis/4-initreffen---forum-der-eltern-aus-elterninitiativen-und-selbstverw
 alteten-kitas
END:VEVENT
BEGIN:VEVENT
UID:20260422T182843UTC-9214cZcu1E@https://deb-bs.de/
DTSTAMP:20260422T182843Z
DESCRIPTION:Teilnehmer*innenkreis\nVerantwortliche Eltern und Vorstandsmitg
 lieder aus den Bereichen Personal\, Finanzen\, Trägerschaft und Vereinsorg
 anisation\n\nInhalt und Ziel \nNach dem Arbeitsschutzgesetz ist der Arbeit
 geber dazu verpflichtet\, für die Sicherheit und Gesundheit seiner Beschäf
 tigten zu sorgen sowie den sicheren Zustand seiner Einrichtung zu gewährle
 isten. Jeder Betrieb\, der einen oder mehrere Mitarbeiter*innen beschäftig
 t\, muss sich arbeitsmedizinisch durch einen Betriebsarzt und sicherheitst
 echnisch durch eine Fachkraft für Arbeitssicherheit betreuen lassen (§ 1 A
 rbeitssicherheitsgesetz).\nDer Infoabend gibt Vorständen einen Überblick ü
 ber die wichtigsten Rechtsgrundlagen und grundpflichten zum Arbeitsschutz 
 in der Kita. Was muss ich als Arbeitgeber beachten und veranlassen\, um de
 r gesetzlichen Verpflichtung zum Arbeitsschutz gerecht zu werden?\n\nRefer
 enten:Dr. med. Eberhard A.-W. Peters\, ArbeitsmedizinerOlaf Berking\, Fach
 kraft für Arbeitssicherheit\nAnsprechpartnerinKatharina Schweiger\n\nAnmel
 dungIhr bekommt rechtzeitig vor jeder Veranstaltung eine Einladung per Mai
 l und könnt Euch dann anmelden. https://deb-bs.de/index.php/jahresprogramm
 /veranstaltungsuebersicht/ereignis/5-arbeitssicherheit-und-gesundheitsschu
 tz-in-der-kita
DTSTART:20260429T193000Z
DTEND:20260429T210000Z
LOCATION:DEB\, Seminarraum ()
SUMMARY:Arbeitssicherheit und Gesundheitsschutz in der Kita 
URL:https://deb-bs.de/index.php/jahresprogramm/veranstaltungsuebersicht/ere
 ignis/5-arbeitssicherheit-und-gesundheitsschutz-in-der-kita
END:VEVENT
BEGIN:VEVENT
UID:20260422T182843UTC-9217bmTKxj@https://deb-bs.de/
DTSTAMP:20260422T182843Z
DESCRIPTION:Teilnehmer*innenkreisPädagogische Leitungen der Elterninitiativ
 en und selbstverwalteten Kitas\n\nInhalt und Ziel \nDie Kita-Leitung garan
 tiert im Auftrag des Trägers der Kindertagesstätte mit ihrer Arbeit die Bi
 ldung und Erziehung der Kinder in der Kindertagesstätte (§2 nds. NKiTaG). 
 Sie trägt die pädagogische Verantwortung und übernimmt in Absprache mit de
 m Vorstand und/oder der Geschäftsleitung administrative und koordinierende
  Aufgabenfelder der Kita.\nDer Arbeitskreis richtet sich an die pädagogisc
 hen Leitungen in unseren Elterninitiativen und selbstverwalteten Kitas. Er
  ist ein unverzichtbares und wertvolles Forum zur gruppenübergreifenden Ve
 rnetzung und bietet Raum für\n- Fachaustausch und Reflexion der pädagogisc
 hen Arbeit und Leitungstätigkeit\n- Auseinandersetzung mit gesetzlichen Vo
 rgaben\, Richtlinien und Verordnungen\n- Bearbeitung von fachlichen Themen
  und Diskussion neuer Erkenntnisse aus der   \n  Erziehungswissenschaft un
 d Forschung.\n\nAnsprechpartnerinStefanie de Vries\, Erziehungswissenschaf
 ten M.A.\n\nAnmeldungIhr bekommt rechtzeitig vor jeder Veranstaltung eine 
 Einladung per Mail und könnt Euch dann anmelden. https://deb-bs.de/index.p
 hp/jahresprogramm/veranstaltungsuebersicht/ereignis/10-arbeitskreis-der-pa
 edagogischen-leitungen
DTSTART:20260506T090000Z
DTEND:20260506T130000Z
LOCATION:DEB\, Seminarraum ()
SUMMARY:Arbeitskreis der pädagogischen Leitungen
URL:https://deb-bs.de/index.php/jahresprogramm/veranstaltungsuebersicht/ere
 ignis/10-arbeitskreis-der-paedagogischen-leitungen
END:VEVENT
BEGIN:VEVENT
UID:20260422T182843UTC-9220T2KD3e@https://deb-bs.de/
DTSTAMP:20260422T182843Z
DESCRIPTION:Teilnehmer*innenkreisPädagogische Fachkräfte und pädagogische A
 ssistenzkräfte in unseren Krippen\, Kindergärten und altersübergreifenden 
 Gruppen\n\nInhalt und Ziel \nDas Fachtreffen bietet allen pädagogischen Kr
 äften die Möglichkeit für regelmäßigen Fachaustausch und kontinuierliche R
 eflexion ihrer pädagogischen Arbeit. Im kollegialen Dialog werden Fragen\,
  Inhalte und Ideen aus der Praxis ausgetauscht und diskutiert und die eige
 ne pädagogische Arbeit reflektiert.\nDieses Jahr wird es Themenvormittage 
 geben:\nT1: Erziehungspartnerschaft im Wandel – Kindheit und Elternschaft 
 früher und heute: An diesem Vormittag befassen wir uns inhaltlich mit dem 
 Wandel von Erziehung und Erziehungspartnerschaften. Wie erlebt ihr den All
 tag\, wo liegen die Chancen und Herausforderungen aktueller pädagogischer 
 Ansätze und Erziehungsmethoden? Wie haben sich die gesellschaftlichen Bedi
 ngungen für junge Familien gewandelt?   Lasst uns gemeinsam auf die besond
 eren Schwierigkeiten der aktuellen Situation blicken und uns dazu austausc
 hen.\nT2: Eingewöhnungen: Berliner Modell\, Bedürfnisorientiertes Eingewöh
 nen\, Münchner Modell\, gar kein Modell? An diesem Vormittag geht es darum
 \, wie Kinder in Gruppen ankommen und wie ihr in euren Einrichtungen die K
 inder und Eltern bei diesem Prozess begleitet.\nT3: Kindliche Sexualität: 
 Nach einem kurzen fachlichen Input gehen wir miteinander in den Austausch\
 , sehen\, was die einzelnen Schutzkonzepte zu dem Thema sagen und sprechen
  über kindliche Entwicklung\, Doktorspiele im KiTa Alltag und den Umgang m
 it schwierigen Situationen.\nT4: Platzhalter-Termin: An diesem Platzhalter
 -Termin für das Fachtreffen Pädagogik arbeiten wir entweder gemeinsam an e
 inem der obigen Themen vertieft weiter oder ihr werdet rechtzeitig über ei
 n neues Thema informiert.\n\nWeitere Termine T1: 25.02.2026 | T2: 28.04.20
 26 | T3: 30.09.2026 | T4: 07.12.2026\, jeweils 09:00 bis 12:00 Uhr\n\nLeit
 ung & AnsprechpartnerinStefanie de Vries\, Erziehungswissenschaften M.A.\n
 \nAnmeldungIhr bekommt rechtzeitig vor jeder Veranstaltung eine Einladung 
 per Mail und könnt Euch dann anmelden. https://deb-bs.de/index.php/jahresp
 rogramm/veranstaltungsuebersicht/ereignis/18-fachtreffen-paedagogik
DTSTART:20260428T090000Z
DTEND:20260428T120000Z
LOCATION:DEB\, Seminarraum ()
SUMMARY:Fachtreffen Pädagogik	
URL:https://deb-bs.de/index.php/jahresprogramm/veranstaltungsuebersicht/ere
 ignis/18-fachtreffen-paedagogik
END:VEVENT
BEGIN:VEVENT
UID:20260422T182843UTC-9224FUkEIE@https://deb-bs.de/
DTSTAMP:20260422T182843Z
DESCRIPTION:Teilnehmer*innenkreisPädagogische Fachkräfte\, pädagogische Ass
 istenzkräfte und Betriebliche Ersthelfer*innen in Kindertagesstätten\n\nIn
 halt und Ziel\nAuf Ebene der Bundesländer ist geregelt\, dass alle fest an
 gestellten Pädagog*innen in Kindertagesstätten in Erster Hilfe geschult se
 in müssen. Darüber hinaus muss nach Vorgabe der BGW in Kindertageseinricht
 ungen jeweils ein betrieblicher Ersthelfer oder eine Ersthelferin für jede
  Kindergruppe anwesend sein. Der Kurs „Erste Hilfe in Bildungs- und Betreu
 ungseinrichtungen für Kinder“ kombiniert die Erste Hilfe am Kind und am Er
 wachsenen.\n \n\nTermineV1: 22.04.2026 | V2: 25.11.2026\, jeweils 08:30 bi
 s 16.00 Uhr\n\nLeitungLothar Neumann\, Einsatzsanitäter\, Dipl-Soz.päd\, E
 rzieher\nAnsprechpartnerinStefanie de Vries\, Erziehungswissenschaftlerin 
 M.A.\n\nKostenDie Kosten werden über den DEB-Rahmenvertrag zur Arbeitsmedi
 zin von den Einrichtungen selbst finanziert.\n\nAnmeldung\nDie Kosten für 
 alle fest angestellte Pädagog*innen können über die Landesunfallkasse LUK/
 GUV Hannover abgerechnet werden. Hierzu muss sechs Wochen im Vorfeld ein A
 ntrag auf Kostenübernahme gestellt werden. Der letzte Antrag muss mindeste
 ns 24 Monate zurückliegen. Informationen zur Antragstellung und das Antrag
 sformular findet ihr unter https://www.lukn.de/praevention/erste-hilfe-ant
 ragsverfahren/\nBei kurzfristiger Absage kann ein Ausfallentgelt in Rechnu
 ng gestellt werden. https://deb-bs.de/index.php/jahresprogramm/veranstaltu
 ngsuebersicht/ereignis/32-erste-hilfe-in-bildungs-und-betreuungseinrichtun
 gen-fuer-kinder
DTSTART:20260422T083000Z
DTEND:20260422T160000Z
LOCATION:DEB\, Seminarraum ()
SUMMARY:Erste Hilfe in Bildungs- und Betreuungseinrichtungen für Kinder
URL:https://deb-bs.de/index.php/jahresprogramm/veranstaltungsuebersicht/ere
 ignis/32-erste-hilfe-in-bildungs-und-betreuungseinrichtungen-fuer-kinder
END:VEVENT
BEGIN:VEVENT
UID:20260422T182843UTC-9226f0R5aE@https://deb-bs.de/
DTSTAMP:20260422T182843Z
DESCRIPTION:Teilnehmer*innenkreisMitarbeiter*innen aus Kitas\, Hort– und Sc
 hulkindbetreuung und Grundschule\, die den DEB-Rahmenvertrag zur Arbeitssi
 cherheit abgeschlossen haben\n\nInhalt und Ziel\nGemäß ASR 2.2 (Regeln für
  Arbeitsstätten\, Maßnahmen gegen Brände) hat der Arbeitgeber eine ausreic
 hende Anzahl von Beschäftigten durch fachkundige Unterweisung und praktisc
 he Übungen im Umgang mit Feuerlöscheinrichtungen zu schulen. Der Arbeitgeb
 er muss mindestens 5% der Beschäftigten als Brandschutzhelfer benennen.\nD
 iese Schulung qualifiziert die Mitarbeiter*innen in einer 3-stündigen Schu
 lung gemäß DGUV Information 205-023 mit praktischer Feuerlöschübung für di
 ese Aufgabe. Inhalte der Schulung sind:\n1. Grundzüge des Brandschutzes\n2
 . Betriebliche Brandschutzorganisation\n3. Funktion und Wirkungsweise von 
 Feuerlöscheinrichtungen\n4. Gefahren durch Brände\n5. Verhalten im Brandfa
 ll\nEine Auffrischung ist nach 3-5 Jahren notwendig\n \n\nTermineV1: 20.04
 .2026 | V2: 08.09.2026\, jeweils ß09:00 bis 12.00 UhrBitte Veranstaltung V
 1 oder V2 wählen und bei der Anmeldung angeben\n\nReferentOlaf Berking\, F
 achkraft für Arbeitssicherheit\nAnsprechpartnerinStefanie de Vries\, Erzie
 hungswissenschaftlerin M.A.\n\nKostenDie Kosten werden über den DEB-Rahmen
 vertrag zur Arbeitssicherheit von den Einrichtungen selbst finanziert.\n\n
 AnmeldungSchriftliche Anmeldung für V1 bis zum 10.04.2026 und für V2 bis z
 um 30.08.2026 https://deb-bs.de/index.php/jahresprogramm/veranstaltungsueb
 ersicht/ereignis/33-arbeitssicherheit---brandschutzhelfer-in
DTSTART:20260420T090000Z
DTEND:20260420T120000Z
LOCATION:BegegnungsZentrum Gliesmarode\, Am Soolanger 1a\, 38104 Braunschwe
 ig ()
SUMMARY:Arbeitssicherheit – Brandschutzhelfer*in
URL:https://deb-bs.de/index.php/jahresprogramm/veranstaltungsuebersicht/ere
 ignis/33-arbeitssicherheit---brandschutzhelfer-in
END:VEVENT
BEGIN:VEVENT
UID:20260422T182843UTC-9230UaXJUW@https://deb-bs.de/
DTSTAMP:20260422T182843Z
DESCRIPTION:Teilnehmer*innenkreis\nFSJler*innen und BFDler*innen der Freiwi
 lligenjahrgänge 2024/2025 und 2025/2026 | Anwesenheitspflicht\n\nInhalt un
 d Ziel\nGemeinsame Seminarfahrt der Seminargruppen\nHauptschwerpunkte bild
 en u.a. folgende Themen:\n- Förderung der Sozialkompetenzen\n- Gender Main
 streaming und Sexismus\n- Körpersprache\n- Autismus\n- Entspannungstechnik
 en\n- Pädagogische Ansätze und Handlungskonzepte\n- Erlebnispädagogische\n
 - Fragen aus der Praxis und kreative Angebote\n\nTeilnehmer*innenzahlBis z
 u 80 TN\n\nLeitungDipl.-Soz.päd. Josefin HübnerVarinya Pohlmann Päd. M.A.C
 ornelius Schneider B. Ed.Dipl.-Soz.päd. Tobias Müller\nAnsprechpartnerinne
 nJosefin HübnerVarinya PohlmannCornelius Schneider\n\nKostenDie Kosten wer
 den über Bundesmittel und die Einsatzstellen-Pauschale für die Freiwillige
 ndienste gedeckt..\n\nAnmeldungAnwesenheitspflicht im Rahmen der pädagogis
 chen Begleitung im FSJ/BFD.\n  https://deb-bs.de/index.php/jahresprogramm/
 veranstaltungsuebersicht/ereignis/38-seminarwochen-im-rahmen-der-freiwilli
 gendienste-fsj-bfd-2026
DTSTART:20260420T000000Z
DTEND:20260424T000000Z
LOCATION:DJH Hildesheim ()
SUMMARY:Seminarwochen im Rahmen der Freiwilligendienste (FSJ/BFD) 2026
URL:https://deb-bs.de/index.php/jahresprogramm/veranstaltungsuebersicht/ere
 ignis/38-seminarwochen-im-rahmen-der-freiwilligendienste-fsj-bfd-2026
END:VEVENT
BEGIN:VEVENT
UID:20260422T182843UTC-9232Vo5ixx@https://deb-bs.de/
DTSTAMP:20260422T182843Z
DESCRIPTION:Inhalt und ZielDie Seminare finden in festen Seminargruppen sta
 tt und verteilen sich über das gesamte Freiwilligenjahr. In diesen Gruppen
  können sich die Freiwilligen austauschen und reflektieren ihre Erfahrunge
 n aus den unterschiedlichen Arbeitsfeldern. Zudem bekommen die Freiwillige
 n die Möglichkeit\, sich mit pädagogischen\, gesellschaftlichen und politi
 schen Themenfeldern auseinanderzusetzen. Themenschwerpunkte in den Bildung
 sseminaren sind unter anderem: Erziehungsstile\, Emotionen von Kindern\, B
 elohnung und Bestrafung\, Kommunikation und Sprachentwicklung\, Diskrimini
 erung und Ausgrenzung\, Teamprozessen und Teamarbeit sowie Konfliktlösung 
 u.v.m.. Weitere wichtige Bestandteile der Seminare stellen das Erkennen ei
 gener Fähigkeiten und Interessen sowie die berufliche Orientierung dar.\n
 \nTeilnehmer*innenzah20 TN (geschlossener Teilnehmer*innenkreis)\n\nSemina
 rleitung & AnsprechpartnerinDipl.-Soz.päd. Josefin Hübner\n\nKostenDie Kos
 ten werden über Bundesmittel und die Einsatzstellen-Pauschale für die Frei
 willigendienste gedeckt.\n\nAnmeldungAnwesenheitspflicht im Rahmen der päd
 agogischen Begleitung im FSJ/BFD. https://deb-bs.de/index.php/jahresprogra
 mm/veranstaltungsuebersicht/ereignis/43-fsj-bfd-gruppe-j-seminartag
DTSTART;VALUE=DATE:20260511
LOCATION:DEB\, Seminarraum ()
SUMMARY:FSJ/BFD GRUPPE J | Seminartag
URL:https://deb-bs.de/index.php/jahresprogramm/veranstaltungsuebersicht/ere
 ignis/43-fsj-bfd-gruppe-j-seminartag
END:VEVENT
BEGIN:VEVENT
UID:20260422T182843UTC-9234VkbIDh@https://deb-bs.de/
DTSTAMP:20260422T182843Z
DESCRIPTION:Inhalt und ZielDie Seminare finden in festen Seminargruppen sta
 tt und verteilen sich über das gesamte Freiwilligenjahr. In diesen Gruppen
  können sich die Freiwilligen austauschen und reflektieren ihre Erfahrunge
 n aus den unterschiedlichen Arbeitsfeldern. Zudem bekommen die Freiwillige
 n die Möglichkeit\, sich mit pädagogischen\, gesellschaftlichen und politi
 schen Themenfeldern auseinanderzusetzen. Themenschwerpunkte in den Bildung
 sseminaren sind unter anderem: Erziehungsstile\, Emotionen von Kindern\, B
 elohnung und Bestrafung\, Kommunikation und Sprachentwicklung\, Diskrimini
 erung und Ausgrenzung\, Teamprozessen und Teamarbeit sowie Konfliktlösung 
 u.v.m.. Weitere wichtige Bestandteile der Seminare stellen das Erkennen ei
 gener Fähigkeiten und Interessen sowie die berufliche Orientierung dar.\n
 \nTeilnehmer*innenzah20 TN (geschlossener Teilnehmer*innenkreis)\n\nSemina
 rleitung & AnsprechpartnerinnenDipl.-Soz.päd. Josefin HübnerVarinya Pohlma
 nn Päd. M.A.\n\nKostenDie Kosten werden über Bundesmittel und die Einsatzs
 tellen-Pauschale für die Freiwilligendienste gedeckt.\n\nAnmeldungAnwesenh
 eitspflicht im Rahmen der pädagogischen Begleitung im FSJ/BFD. https://deb
 -bs.de/index.php/jahresprogramm/veranstaltungsuebersicht/ereignis/50-fsj-b
 fd-gruppe-vj-seminartag
DTSTART:20260507T083000Z
DTEND:20260507T170000Z
LOCATION:DEB\, Seminarraum ()
SUMMARY:FSJ/BFD GRUPPE VJ | Seminartag
URL:https://deb-bs.de/index.php/jahresprogramm/veranstaltungsuebersicht/ere
 ignis/50-fsj-bfd-gruppe-vj-seminartag
END:VEVENT
BEGIN:VEVENT
UID:20260422T182843UTC-92369EGRGl@https://deb-bs.de/
DTSTAMP:20260422T182843Z
DESCRIPTION:Inhalt und ZielDie Seminare finden in festen Seminargruppen sta
 tt und verteilen sich über das gesamte Freiwilligenjahr. In diesen Gruppen
  können sich die Freiwilligen austauschen und reflektieren ihre Erfahrunge
 n aus den unterschiedlichen Arbeitsfeldern. Zudem bekommen die Freiwillige
 n die Möglichkeit\, sich mit pädagogischen\, gesellschaftlichen und politi
 schen Themenfeldern auseinanderzusetzen. Themenschwerpunkte in den Bildung
 sseminaren sind unter anderem: Erziehungsstile\, Emotionen von Kindern\, B
 elohnung und Bestrafung\, Kommunikation und Sprachentwicklung\, Diskrimini
 erung und Ausgrenzung\, Teamprozessen und Teamarbeit sowie Konfliktlösung 
 u.v.m.. Weitere wichtige Bestandteile der Seminare stellen das Erkennen ei
 gener Fähigkeiten und Interessen sowie die berufliche Orientierung dar.\n
 \nTeilnehmer*innenzah20 TN (geschlossener Teilnehmer*innenkreis)\n\nSemina
 rleitung & AnsprechpartnerinnenDipl.-Soz.päd. Josefin HübnerVarinya Pohlma
 nn Päd. M.A.\n\nKostenDie Kosten werden über Bundesmittel und die Einsatzs
 tellen-Pauschale für die Freiwilligendienste gedeckt.\n\nAnmeldungAnwesenh
 eitspflicht im Rahmen der pädagogischen Begleitung im FSJ/BFD. https://deb
 -bs.de/index.php/jahresprogramm/veranstaltungsuebersicht/ereignis/51-fsj-b
 fd-gruppe-vj-seminartag-waldforum
DTSTART:20260512T083000Z
DTEND:20260512T170000Z
LOCATION:DEB\, Seminarraum ()
SUMMARY:FSJ/BFD GRUPPE VJ | Seminartag - Waldforum
URL:https://deb-bs.de/index.php/jahresprogramm/veranstaltungsuebersicht/ere
 ignis/51-fsj-bfd-gruppe-vj-seminartag-waldforum
END:VEVENT
END:VCALENDAR
